BEGIN:VCALENDAR
VERSION:2.0
PRODID:SchoolNow
CALSCALE:GREGORIAN
BEGIN:VEVENT
UID:48ce9390-cf72-11ea-9f47-12c813715e3b
DTSTAMP:20200726T190034Z
SUMMARY:Boot Camp
LOCATION:Basketball Court
URL;VALUE=URI:https://www.wildernesslakecdd.org/calendar/2291906/boot-camp
DTSTART:20200728T130000Z
DTEND:20200728T140000Z
END:VEVENT
END:VCALENDAR
