BEGIN:VCALENDAR
VERSION:2.0
PRODID:SchoolNow
CALSCALE:GREGORIAN
BEGIN:VEVENT
UID:1bf5f4b2-cf72-11ea-9679-12c813715e3b
DTSTAMP:20200726T185919Z
SUMMARY:Yoga
LOCATION:Activities Center
URL;VALUE=URI:https://www.wildernesslakecdd.org/calendar/2291905/yoga
DTSTART:20200730T124500Z
DTEND:20200730T141500Z
END:VEVENT
END:VCALENDAR
