BEGIN:VCALENDAR
VERSION:2.0
PRODID:SchoolNow
CALSCALE:GREGORIAN
BEGIN:VEVENT
UID:cc06f1b8-cf71-11ea-9271-12c813715e3b
DTSTAMP:20200726T185811Z
SUMMARY:Yoga
LOCATION:Activities Center
URL;VALUE=URI:https://www.wildernesslakecdd.org/calendar/2291904/yoga
DTSTART:20200728T124500Z
DTEND:20200728T141500Z
END:VEVENT
END:VCALENDAR
