BEGIN:VCALENDAR
VERSION:2.0
PRODID:SchoolNow
CALSCALE:GREGORIAN
BEGIN:VEVENT
UID:8896eec4-cf71-11ea-8729-12c813715e3b
DTSTAMP:20200726T185511Z
SUMMARY:Walking\, Toning\, & Strength Class
LOCATION:Activities Center
URL;VALUE=URI:https://www.wildernesslakecdd.org/calendar/2291903/walking-to
 ning-strength-class
DTSTART:20200831T133000Z
DTEND:20200831T143000Z
END:VEVENT
END:VCALENDAR
