BEGIN:VCALENDAR
VERSION:2.0
PRODID:SchoolNow
CALSCALE:GREGORIAN
BEGIN:VEVENT
UID:5861981c-cf71-11ea-b681-12c813715e3b
DTSTAMP:20200726T185350Z
SUMMARY:Walking\, Toning\, & Strength Class
LOCATION:Activities Center
URL;VALUE=URI:https://www.wildernesslakecdd.org/calendar/2291902/walking-to
 ning-strength-class
DTSTART:20200828T133000Z
DTEND:20200828T143000Z
END:VEVENT
END:VCALENDAR
