BEGIN:VCALENDAR
VERSION:2.0
PRODID:SchoolNow
CALSCALE:GREGORIAN
BEGIN:VEVENT
UID:33203536-cf71-11ea-ac44-12c813715e3b
DTSTAMP:20200726T185248Z
SUMMARY:Walking\, Toning\, & Strength Class
LOCATION:Activities Center
URL;VALUE=URI:https://www.wildernesslakecdd.org/calendar/2291901/walking-to
 ning-strength-class
DTSTART:20200826T133000Z
DTEND:20200826T143000Z
END:VEVENT
END:VCALENDAR
