BEGIN:VCALENDAR
VERSION:2.0
PRODID:SchoolNow
CALSCALE:GREGORIAN
BEGIN:VEVENT
UID:0d9c72a2-cf71-11ea-ae18-12c813715e3b
DTSTAMP:20200726T185145Z
SUMMARY:Walking\, Toning\, & Strength Class
LOCATION:Activities Center
URL;VALUE=URI:https://www.wildernesslakecdd.org/calendar/2291900/walking-to
 ning-strength-class
DTSTART:20200824T133000Z
DTEND:20200824T143000Z
END:VEVENT
END:VCALENDAR
