BEGIN:VCALENDAR
VERSION:2.0
PRODID:SchoolNow
CALSCALE:GREGORIAN
BEGIN:VEVENT
UID:e3bf98ba-cf70-11ea-8eb9-12c813715e3b
DTSTAMP:20200726T185035Z
SUMMARY:Walking\, Toning\, & Strength Class
LOCATION:Activities Center
URL;VALUE=URI:https://www.wildernesslakecdd.org/calendar/2291899/walking-to
 ning-strength-class
DTSTART:20200821T133000Z
DTEND:20200821T143000Z
END:VEVENT
END:VCALENDAR
