BEGIN:VCALENDAR
VERSION:2.0
PRODID:SchoolNow
CALSCALE:GREGORIAN
BEGIN:VEVENT
UID:a071fe72-cf70-11ea-a36e-12c813715e3b
DTSTAMP:20200726T184842Z
SUMMARY:Walking\, Toning\, & Strength Class
LOCATION:Activities Center
URL;VALUE=URI:https://www.wildernesslakecdd.org/calendar/2291897/walking-to
 ning-strength-class
DTSTART:20200817T133000Z
DTEND:20200817T143000Z
END:VEVENT
END:VCALENDAR
