BEGIN:VCALENDAR
VERSION:2.0
PRODID:SchoolNow
CALSCALE:GREGORIAN
BEGIN:VEVENT
UID:79822d6e-cf70-11ea-b9a0-12c813715e3b
DTSTAMP:20200726T184737Z
SUMMARY:Walking\, Toning\, & Strength Class
URL;VALUE=URI:https://www.wildernesslakecdd.org/calendar/2291896/walking-to
 ning-strength-class
DTSTART:20200814T133000Z
DTEND:20200814T143000Z
END:VEVENT
END:VCALENDAR
