BEGIN:VCALENDAR
VERSION:2.0
PRODID:SchoolNow
CALSCALE:GREGORIAN
BEGIN:VEVENT
UID:e8cc4624-cf6f-11ea-a45d-12c813715e3b
DTSTAMP:20200726T184530Z
SUMMARY:Walking\, Toning\, & Strength Class
LOCATION:Activities Center
URL;VALUE=URI:https://www.wildernesslakecdd.org/calendar/2291894/walking-to
 ning-strength-class
DTSTART:20200810T133000Z
DTEND:20200810T143000Z
END:VEVENT
END:VCALENDAR
