BEGIN:VCALENDAR
VERSION:2.0
PRODID:SchoolNow
CALSCALE:GREGORIAN
BEGIN:VEVENT
UID:6cd6a5b4-cf6f-11ea-8e00-0aebd1bed55d
DTSTAMP:20200726T184516Z
SUMMARY:Walking\, Toning\, & Strength Class
LOCATION:Activities Center
URL;VALUE=URI:https://www.wildernesslakecdd.org/calendar/2291893/walking-to
 ning-strength-class
DTSTART:20200807T133000Z
DTEND:20200807T143000Z
END:VEVENT
END:VCALENDAR
