BEGIN:VCALENDAR
VERSION:2.0
PRODID:SchoolNow
CALSCALE:GREGORIAN
BEGIN:VEVENT
UID:4f69b62e-cf6f-11ea-91b4-0aebd1bed55d
DTSTAMP:20200726T184456Z
SUMMARY:Walking\, Toning\, & Strength Class
LOCATION:Activiites Center
URL;VALUE=URI:https://www.wildernesslakecdd.org/calendar/2291892/walking-to
 ning-strength-class
DTSTART:20200805T133000Z
DTEND:20200805T143000Z
END:VEVENT
END:VCALENDAR
