BEGIN:VCALENDAR
VERSION:2.0
PRODID:SchoolNow
CALSCALE:GREGORIAN
BEGIN:VEVENT
UID:33abf618-cf6f-11ea-ac83-0aebd1bed55d
DTSTAMP:20200726T184440Z
SUMMARY:Walking\, Toning\, & Strength Class
LOCATION:Activities Center
URL;VALUE=URI:https://www.wildernesslakecdd.org/calendar/2291891/walking-to
 ning-strength-class
DTSTART:20200803T133000Z
DTEND:20200803T143000Z
END:VEVENT
END:VCALENDAR
