BEGIN:VCALENDAR
VERSION:2.0
PRODID:SchoolNow
CALSCALE:GREGORIAN
BEGIN:VEVENT
UID:040a24ac-cf6f-11ea-8512-0aebd1bed55d
DTSTAMP:20200726T184424Z
SUMMARY:Walking\, Toning\, & Strenth Class
LOCATION:Activities Center
URL;VALUE=URI:https://www.wildernesslakecdd.org/calendar/2291890/walking-to
 ning-strenth-class
DTSTART:20200731T133000Z
DTEND:20200731T143000Z
END:VEVENT
END:VCALENDAR
