BEGIN:VCALENDAR
VERSION:2.0
PRODID:SchoolNow
CALSCALE:GREGORIAN
BEGIN:VEVENT
UID:ec0ca762-cf6e-11ea-acfa-0aebd1bed55d
DTSTAMP:20200726T184403Z
SUMMARY:Walking\, Toning\, & Strength Class
LOCATION:Activities Center
URL;VALUE=URI:https://www.wildernesslakecdd.org/calendar/2291889/walking-to
 ning-strength-class
DTSTART:20200729T133000Z
DTEND:20200729T143000Z
END:VEVENT
END:VCALENDAR
