BEGIN:VCALENDAR
VERSION:2.0
PRODID:SchoolNow
CALSCALE:GREGORIAN
BEGIN:VEVENT
UID:cdcf28d8-cf6e-11ea-920b-0aebd1bed55d
DTSTAMP:20200726T183539Z
SUMMARY:Walking\, Toning\, & Strength Class
LOCATION:Activities Center
URL;VALUE=URI:https://www.wildernesslakecdd.org/calendar/2291888/walking-to
 ning-strength-class
DTSTART:20200727T133000Z
DTEND:20200727T143000Z
END:VEVENT
END:VCALENDAR
