BEGIN:VCALENDAR
VERSION:2.0
PRODID:SchoolNow
CALSCALE:GREGORIAN
BEGIN:VEVENT
UID:37ee37ec-cf68-11ea-9b2b-0aebd1bed55d
DTSTAMP:20200726T174831Z
SUMMARY:Summer Cool Down
URL;VALUE=URI:https://www.wildernesslakecdd.org/calendar/2291887/summer-coo
 l-down
DTSTART:20200829T200000Z
DTEND:20200830T000000Z
END:VEVENT
END:VCALENDAR
