BEGIN:VCALENDAR
VERSION:2.0
PRODID:SchoolNow
CALSCALE:GREGORIAN
BEGIN:VEVENT
UID:ddc0fc46-cf67-11ea-87aa-0aebd1bed55d
DTSTAMP:20200726T174647Z
SUMMARY:Boo Hoo Breakfast
URL;VALUE=URI:https://www.wildernesslakecdd.org/calendar/2291886/boo-hoo-br
 eakfast
DTSTART:20200824T130000Z
DTEND:20200824T160000Z
END:VEVENT
END:VCALENDAR
