BEGIN:VCALENDAR
VERSION:2.0
PRODID:SchoolNow
CALSCALE:GREGORIAN
BEGIN:VEVENT
UID:19942ac8-b892-11ea-8f67-12f3c8c7d5c5
DTSTAMP:20200726T182832Z
SUMMARY:Pizza by the Slice
LOCATION:Activities Center
URL;VALUE=URI:https://www.wildernesslakecdd.org/calendar/2268962/pizza-by-t
 he-slice
DTSTART:20200731T160000Z
DTEND:20200731T180000Z
END:VEVENT
END:VCALENDAR
