BEGIN:VCALENDAR
VERSION:2.0
PRODID:SchoolNow
CALSCALE:GREGORIAN
BEGIN:VEVENT
UID:fc3ec802-b891-11ea-9169-12f3c8c7d5c5
DTSTAMP:20200627T161932Z
SUMMARY:Hoops & Scoops
LOCATION:Basketball Court
URL;VALUE=URI:https://www.wildernesslakecdd.org/calendar/2268961/hoops-scoo
 ps
DTSTART:20200726T170000Z
DTEND:20200726T190000Z
END:VEVENT
END:VCALENDAR
