BEGIN:VCALENDAR
VERSION:2.0
PRODID:SchoolNow
CALSCALE:GREGORIAN
BEGIN:VEVENT
UID:afc3c914-b891-11ea-8b97-12f3c8c7d5c5
DTSTAMP:20200627T161724Z
SUMMARY:Grill & Chill Potluck
LOCATION:Activities Center
URL;VALUE=URI:https://www.wildernesslakecdd.org/calendar/2268960/grill-chil
 l-potluck
DTSTART:20200712T180000Z
DTEND:20200712T220000Z
END:VEVENT
END:VCALENDAR
