BEGIN:VCALENDAR
VERSION:2.0
PRODID:SchoolNow
CALSCALE:GREGORIAN
BEGIN:VEVENT
UID:7d137bcc-b891-11ea-8d13-12f3c8c7d5c5
DTSTAMP:20200627T161559Z
SUMMARY:Adult Art Class
LOCATION:Activities Center
URL;VALUE=URI:https://www.wildernesslakecdd.org/calendar/2268959/adult-art-
 class
DTSTART:20200711T180000Z
DTEND:20200711T200000Z
END:VEVENT
END:VCALENDAR
