BEGIN:VCALENDAR
VERSION:2.0
PRODID:SchoolNow
CALSCALE:GREGORIAN
BEGIN:VEVENT
UID:52553fba-b891-11ea-8caa-12f3c8c7d5c5
DTSTAMP:20200627T161447Z
SUMMARY:Kid's Art Class
LOCATION:Activities Center
URL;VALUE=URI:https://www.wildernesslakecdd.org/calendar/2268958/kids-art-c
 lass
DTSTART:20200711T140000Z
DTEND:20200711T160000Z
END:VEVENT
END:VCALENDAR
