BEGIN:VCALENDAR
VERSION:2.0
PRODID:SchoolNow
CALSCALE:GREGORIAN
BEGIN:VEVENT
UID:03790d90-b891-11ea-82cb-12f3c8c7d5c5
DTSTAMP:20200627T161235Z
SUMMARY:Frosty Friday
LOCATION:Activities Center
URL;VALUE=URI:https://www.wildernesslakecdd.org/calendar/2268957/frosty-fri
 day
DTSTART:20200710T170000Z
DTEND:20200710T180000Z
END:VEVENT
END:VCALENDAR
