BEGIN:VCALENDAR
VERSION:2.0
PRODID:SchoolNow
CALSCALE:GREGORIAN
BEGIN:VEVENT
UID:db96009e-b890-11ea-a67a-12f3c8c7d5c5
DTSTAMP:20200627T161128Z
SUMMARY:Movie Matinee - Despicable Me 3
LOCATION:Theatre
URL;VALUE=URI:https://www.wildernesslakecdd.org/calendar/2268956/movie-mati
 nee-despicable-me-3
DTSTART:20200729T170000Z
DTEND:20200729T190000Z
END:VEVENT
END:VCALENDAR
