BEGIN:VCALENDAR
VERSION:2.0
PRODID:SchoolNow
CALSCALE:GREGORIAN
BEGIN:VEVENT
UID:c0d19b42-b890-11ea-857c-12f3c8c7d5c5
DTSTAMP:20200627T161043Z
SUMMARY:Movie Matinee
LOCATION:Theatre
URL;VALUE=URI:https://www.wildernesslakecdd.org/calendar/2268955/movie-mati
 nee
DTSTART:20200722T170000Z
DTEND:20200722T190000Z
END:VEVENT
END:VCALENDAR
