BEGIN:VCALENDAR
VERSION:2.0
PRODID:SchoolNow
CALSCALE:GREGORIAN
BEGIN:VEVENT
UID:a46f0e62-b890-11ea-8da4-12f3c8c7d5c5
DTSTAMP:20200627T160956Z
SUMMARY:Movie Matinee - Frozen II
LOCATION:Theatre
URL;VALUE=URI:https://www.wildernesslakecdd.org/calendar/2268954/movie-mati
 nee-frozen-ii
DTSTART:20200715T170000Z
DTEND:20200715T190000Z
END:VEVENT
END:VCALENDAR
