BEGIN:VCALENDAR
VERSION:2.0
PRODID:SchoolNow
CALSCALE:GREGORIAN
BEGIN:VEVENT
UID:03ce5be8-b890-11ea-bdfe-12f3c8c7d5c5
DTSTAMP:20200627T160526Z
SUMMARY:Movie Matinee - Playing with Fire
LOCATION:Theatre
URL;VALUE=URI:https://www.wildernesslakecdd.org/calendar/2268953/movie-mati
 nee-playing-with-fire
DTSTART:20200708T170000Z
DTEND:20200708T190000Z
END:VEVENT
END:VCALENDAR
