BEGIN:VCALENDAR
VERSION:2.0
PRODID:SchoolNow
CALSCALE:GREGORIAN
BEGIN:VEVENT
UID:9eb41f86-b88f-11ea-acf0-12f3c8c7d5c5
DTSTAMP:20200627T160237Z
SUMMARY:Ping Pong & Popcorn
LOCATION:Activities Center
URL;VALUE=URI:https://www.wildernesslakecdd.org/calendar/2268952/ping-pong-
 popcorn
DTSTART:20200705T170000Z
DTEND:20200705T190000Z
END:VEVENT
END:VCALENDAR
