BEGIN:VCALENDAR
VERSION:2.0
PRODID:SchoolNow
CALSCALE:GREGORIAN
BEGIN:VEVENT
UID:797797a2-b88f-11ea-a89a-12f3c8c7d5c5
DTSTAMP:20200627T160544Z
SUMMARY:Movie Matinee - Lion King
LOCATION:Theatre
URL;VALUE=URI:https://www.wildernesslakecdd.org/calendar/2268951/movie-mati
 nee
DTSTART:20200701T170000Z
DTEND:20200701T190000Z
END:VEVENT
END:VCALENDAR
