BEGIN:VCALENDAR
VERSION:2.0
PRODID:SchoolNow
CALSCALE:GREGORIAN
BEGIN:VEVENT
UID:44081c54-b88f-11ea-bcf0-12f3c8c7d5c5
DTSTAMP:20200627T160004Z
SUMMARY:Hoops & Scoops
LOCATION:Basketball Court
URL;VALUE=URI:https://www.wildernesslakecdd.org/calendar/2268950/hoops-scoo
 ps
DTSTART:20200628T170000Z
DTEND:20200628T190000Z
END:VEVENT
END:VCALENDAR
