BEGIN:VCALENDAR
VERSION:2.0
PRODID:SchoolNow
CALSCALE:GREGORIAN
BEGIN:VEVENT
UID:90b64600-a040-11ea-89ee-0a23a49caccb
DTSTAMP:20200527T175248Z
SUMMARY:CDD Emergency Meeting Via Zoom
LOCATION:Zoom call in #: 1-929-205-6099 Meeting ID: 936 4879 3302 US (New Y
 ork)
URL;VALUE=URI:https://www.wildernesslakecdd.org/calendar/2253700/cdd-emerge
 ncy-meeting
DTSTART:20200528T200000Z
DTEND:20200528T210000Z
ATTACH;FILENAME=2020-05-28 - Preserve at Wilderness Lake - Emergency Meetin
 g Full  Agenda (1).pdf;FMTTYPE=application/pdf:https://campussuite-storage
 .s3.amazonaws.com/prod/1558874/21caec5e-ea98-11e9-8581-0a20d2c7fac4/210363
 8/bc7be286-a040-11ea-9c94-0a23a49caccb/file/2020-05-28 - Preserve at Wilde
 rness Lake - Emergency Meeting Full  Agenda (1).pdf
END:VEVENT
END:VCALENDAR
