BEGIN:VCALENDAR
VERSION:2.0
PRODID:SchoolNow
CALSCALE:GREGORIAN
BEGIN:VEVENT
UID:a07d4416-8fcf-11ea-9c91-0a76e360b031
DTSTAMP:20200511T124954Z
SUMMARY:CDD  Continuation Meeting - Further Discussion on Reopening
URL;VALUE=URI:https://www.wildernesslakecdd.org/calendar/2245011/cdd-may-me
 eting-continuation-further-discussion-on-reopening
DTSTART:20200511T133000Z
DTEND:20200511T163000Z
ATTACH;FILENAME=2020-05-11 - Preserve at Wilderness Lake - Final Full Agend
 a.pdf;FMTTYPE=application/pdf:https://campussuite-storage.s3.amazonaws.com
 /prod/1558874/21caec5e-ea98-11e9-8581-0a20d2c7fac4/2095845/e481a09e-9385-1
 1ea-b043-0accb74e0201/file/2020-05-11 - Preserve at Wilderness Lake - Fina
 l Full Agenda.pdf
END:VEVENT
END:VCALENDAR
