BEGIN:VCALENDAR
VERSION:2.0
PRODID:SchoolNow
CALSCALE:GREGORIAN
BEGIN:VEVENT
UID:6b04e49a-6925-11ea-acc8-123be3815bab
DTSTAMP:20200826T125557Z
SUMMARY:CDD Board Meeting  - Sept. 2020
LOCATION:Zoom call-in number: 1-929-205-6099 - Meeting ID#: 769 523 0756
URL;VALUE=URI:https://www.wildernesslakecdd.org/calendar/2221165/cdd-board-
 meeting-sept-2020
DTSTART:20200902T133000Z
DTEND:20200902T143000Z
ATTACH;FILENAME=2020-09-02 - Preserve at Wilderness Lake - Full Final Agend
 a-2.pdf;FMTTYPE=application/pdf:https://campussuite-storage.s3.amazonaws.c
 om/prod/1558874/21caec5e-ea98-11e9-8581-0a20d2c7fac4/2150483/c33d2634-e799
 -11ea-9ff6-1241d057cf53/file/2020-09-02 - Preserve at Wilderness Lake - Fu
 ll Final Agenda-2.pdf
ATTACH;FILENAME=2020-07 Preserve at Wilderness Lake Board Package.pdf;FMTTY
 PE=application/pdf:https://campussuite-storage.s3.amazonaws.com/prod/15588
 74/21caec5e-ea98-11e9-8581-0a20d2c7fac4/2150484/d0eebb80-e799-11ea-a673-12
 41d057cf53/file/2020-07 Preserve at Wilderness Lake Board Package.pdf
END:VEVENT
END:VCALENDAR
