BEGIN:VCALENDAR
VERSION:2.0
PRODID:SchoolNow
CALSCALE:GREGORIAN
BEGIN:VEVENT
UID:50a7f7ae-6925-11ea-8d53-123be3815bab
DTSTAMP:20200730T135927Z
SUMMARY:CDD Board Meeting  - Aug. 2020
LOCATION:The Zoom call-in number for the meeting is 1-929-205-6099 and the 
 ID# is 7695230756.
URL;VALUE=URI:https://www.wildernesslakecdd.org/calendar/2221163/cdd-board-
 meeting-aug-2020
DTSTART:20200805T223000Z
DTEND:20200805T233000Z
ATTACH;FILENAME=2020-08-05- Preserve at Wilderness Lake - Full Final Agenda
 .pdf;FMTTYPE=application/pdf:https://campussuite-storage.s3.amazonaws.com/
 prod/1558874/21caec5e-ea98-11e9-8581-0a20d2c7fac4/2135169/7e7e0962-d0df-11
 ea-b91b-0ab7602de3cf/file/2020-08-05- Preserve at Wilderness Lake - Full F
 inal Agenda.pdf
END:VEVENT
END:VCALENDAR
