BEGIN:VCALENDAR
VERSION:2.0
PRODID:SchoolNow
CALSCALE:GREGORIAN
BEGIN:VEVENT
UID:04f372ac-6925-11ea-9fa3-123be3815bab
DTSTAMP:20200520T153049Z
SUMMARY:CDD Board Meeting  - May 2020 - (Teleconference)
LOCATION:The Preserve at Wilderness Lake Lodge\, located at 21320 Wildernes
 s Lake Boulevard\, Land O’ Lakes\, Florida 34637
URL;VALUE=URI:https://www.wildernesslakecdd.org/calendar/2221161/cdd-board-
 meeting-may-2020
DTSTART:20200506T133000Z
DTEND:20200506T153000Z
END:VEVENT
END:VCALENDAR
