BEGIN:VCALENDAR
VERSION:2.0
PRODID:SchoolNow
CALSCALE:GREGORIAN
BEGIN:VEVENT
UID:ab10562e-6924-11ea-846d-123be3815bab
DTSTAMP:20200526T145718Z
SUMMARY:CDD Board Meeting  - June 2020
LOCATION:Zoom info for residents to call in.   Meeting ID: 985 3255 5718  +
 19292056099   US (New York)
URL;VALUE=URI:https://www.wildernesslakecdd.org/calendar/2221158/cdd-board-
 meeting-june-2020
DTSTART:20200603T133000Z
DTEND:20200604T035900Z
ATTACH;FILENAME=2020-06-03- Preserve at Wilderness Lake - Full Final Agenda
 .pdf;FMTTYPE=application/pdf:https://campussuite-storage.s3.amazonaws.com/
 prod/1558874/21caec5e-ea98-11e9-8581-0a20d2c7fac4/2103146/bd898e48-9f60-11
 ea-af18-0a1f87c7326b/file/2020-06-03- Preserve at Wilderness Lake - Full F
 inal Agenda.pdf
END:VEVENT
END:VCALENDAR
