BEGIN:VCALENDAR
VERSION:2.0
PRODID:SchoolNow
CALSCALE:GREGORIAN
BEGIN:VEVENT
UID:9a477f20-691f-11ea-84ed-0a1595a53aa5
DTSTAMP:20200331T132858Z
SUMMARY:CDD Board Meeting  - Apr. 2020 - Canceled
LOCATION:The Preserve at Wilderness Lake Lodge\, located at 21320 Wildernes
 s Lake Boulevard\, Land O’ Lakes\, Florida 34637
URL;VALUE=URI:https://www.wildernesslakecdd.org/calendar/2221109/cdd-board-
 meeting-apr-2020
DTSTART:20200401T133000Z
DTEND:20200401T143000Z
END:VEVENT
END:VCALENDAR
