BEGIN:VCALENDAR
VERSION:2.0
PRODID:SchoolNow
CALSCALE:GREGORIAN
BEGIN:VEVENT
UID:014775b6-6913-11ea-b466-0a02ed59e961
DTSTAMP:20200423T174217Z
SUMMARY:CDD Budget Workshop - (Teleconference)
LOCATION:Telephonically only
URL;VALUE=URI:https://www.wildernesslakecdd.org/calendar/2221108/cdd-budget
 -meeting
DTSTART:20200429T133000Z
DTEND:20200429T190000Z
END:VEVENT
END:VCALENDAR
