BEGIN:VCALENDAR
VERSION:2.0
PRODID:SchoolNow
CALSCALE:GREGORIAN
BEGIN:VEVENT
UID:2ebd16aa-5a49-11ea-b8b6-0a2a8253434b
DTSTAMP:20200408T213302Z
SUMMARY:Teen Glow Hunt - Cancelled
LOCATION:Lodge Courtyard
URL;VALUE=URI:https://www.wildernesslakecdd.org/calendar/2209713/teen-glow-
 hunt
DTSTART:20200410T230000Z
DTEND:20200411T003000Z
END:VEVENT
END:VCALENDAR
