BEGIN:VCALENDAR
VERSION:2.0
PRODID:SchoolNow
CALSCALE:GREGORIAN
BEGIN:VEVENT
UID:c532d10c-5a48-11ea-a515-1245c4aab13d
DTSTAMP:20200408T213247Z
SUMMARY:Photo Shop - Cancelled
LOCATION:Activities Center
URL;VALUE=URI:https://www.wildernesslakecdd.org/calendar/2209711/photo-shop
DTSTART:20200409T170000Z
DTEND:20200409T210000Z
END:VEVENT
END:VCALENDAR
