BEGIN:VCALENDAR
VERSION:2.0
PRODID:SchoolNow
CALSCALE:GREGORIAN
BEGIN:VEVENT
UID:3168cbca-5a48-11ea-900a-0a2a8253434b
DTSTAMP:20200228T163430Z
SUMMARY:Private Rental
LOCATION:Activities Center
URL;VALUE=URI:https://www.wildernesslakecdd.org/calendar/2209706/private-re
 ntal
DTSTART:20200405T170000Z
DTEND:20200405T220000Z
END:VEVENT
END:VCALENDAR
