BEGIN:VCALENDAR
VERSION:2.0
PRODID:SchoolNow
CALSCALE:GREGORIAN
BEGIN:VEVENT
UID:1052f1a4-5a48-11ea-9227-0a2a8253434b
DTSTAMP:20200317T135701Z
SUMMARY:Private Rental - Canceled
LOCATION:Activities Center
URL;VALUE=URI:https://www.wildernesslakecdd.org/calendar/2209705/private-re
 ntal
DTSTART:20200404T170000Z
DTEND:20200404T220000Z
END:VEVENT
END:VCALENDAR
