BEGIN:VCALENDAR
VERSION:2.0
PRODID:SchoolNow
CALSCALE:GREGORIAN
BEGIN:VEVENT
UID:4b9c3528-5a47-11ea-8708-0afe4b3deb81
DTSTAMP:20200317T135627Z
SUMMARY:Photo Shop - Canceled
LOCATION:Activties Center
URL;VALUE=URI:https://www.wildernesslakecdd.org/calendar/2209697/photo-shop
DTSTART:20200402T170000Z
DTEND:20200402T210000Z
END:VEVENT
END:VCALENDAR
