BEGIN:VCALENDAR
VERSION:2.0
PRODID:SchoolNow
CALSCALE:GREGORIAN
BEGIN:VEVENT
UID:f6ab0630-5a45-11ea-a417-0a2a8253434b
DTSTAMP:20200317T135436Z
SUMMARY:Private Rental - Canceled
LOCATION:Nature Center
URL;VALUE=URI:https://www.wildernesslakecdd.org/calendar/2209692/private-re
 ntal
DTSTART:20200329T160000Z
DTEND:20200329T210000Z
END:VEVENT
END:VCALENDAR
