BEGIN:VCALENDAR
VERSION:2.0
PRODID:SchoolNow
CALSCALE:GREGORIAN
BEGIN:VEVENT
UID:d236d018-5a45-11ea-acac-0a2a8253434b
DTSTAMP:20200317T135459Z
SUMMARY:Private Rental - Canceled
LOCATION:Activities Center
URL;VALUE=URI:https://www.wildernesslakecdd.org/calendar/2209691/private-re
 ntal
DTSTART:20200329T170000Z
DTEND:20200329T220000Z
END:VEVENT
END:VCALENDAR
