BEGIN:VCALENDAR
VERSION:2.0
PRODID:SchoolNow
CALSCALE:GREGORIAN
BEGIN:VEVENT
UID:98dc17ba-5a45-11ea-b29b-0a2a8253434b
DTSTAMP:20200317T135358Z
SUMMARY:Grill & Chill Dinner - Canceled
LOCATION:Activities Center
URL;VALUE=URI:https://www.wildernesslakecdd.org/calendar/2209690/grill-chil
 l-dinner
DTSTART:20200327T210000Z
DTEND:20200328T010000Z
END:VEVENT
END:VCALENDAR
