BEGIN:VCALENDAR
VERSION:2.0
PRODID:SchoolNow
CALSCALE:GREGORIAN
BEGIN:VEVENT
UID:62a66d44-5a45-11ea-a7b3-120f21ff56d1
DTSTAMP:20200317T135334Z
SUMMARY:Photo Shop - Canceled
LOCATION:Activities Center
URL;VALUE=URI:https://www.wildernesslakecdd.org/calendar/2209689/photo-shop
DTSTART:20200326T170000Z
DTEND:20200326T210000Z
END:VEVENT
END:VCALENDAR
