BEGIN:VCALENDAR
VERSION:2.0
PRODID:SchoolNow
CALSCALE:GREGORIAN
BEGIN:VEVENT
UID:1dc6ae6e-5a45-11ea-afe7-120f21ff56d1
DTSTAMP:20200317T135311Z
SUMMARY:Private Rental - Canceled
LOCATION:Activities Center
URL;VALUE=URI:https://www.wildernesslakecdd.org/calendar/2209688/private-re
 ntal
DTSTART:20200322T160000Z
DTEND:20200322T210000Z
END:VEVENT
END:VCALENDAR
